BEGIN:VCALENDAR
VERSION:2.0
PRODID:-//hacksw/handcal//NONSGML v1.0//EN
CALSCALE:GREGORIAN
BEGIN:VEVENT
ORGANIZER;CN=Firefly Aerospace:MAILTO:no-reply@gcs-web.com
DTEND:
UID:4e0133ab-cc03-46bd-a826-a0daa7c3fbdc
DTSTAMP:1776688553
LOCATION:https://www.proxydocs.com/FLY
DESCRIPTION:Event Details https://investors.fireflyspace.com/events/event-details/2026-annual-meeting-stockholders\n\nWebcast: https://www.proxydocs.com/FLY
URL;VALUE=URI:https://www.proxydocs.com/FLY
SUMMARY:Firefly Aerospace - 2026 Annual Meeting of Stockholders
DTSTART:20260604T133000Z
END:VEVENT
END:VCALENDAR